BEGIN:VCALENDAR
VERSION:2.0
PRODID:-////NONSGML kigkonsult.se iCalcreator 2.22//
X-WR-CALNAME:Mon calendrier de 'Soliitude'
X-WR-CALDESC:Un flux ical exporté par EQdkp Plus
X-WR-TIMEZONE:Europe/Paris
BEGIN:VTIMEZONE
TZID:Europe/Paris
X-LIC-LOCATION:Europe/Paris
BEGIN:STANDARD
DTSTART:20211031T030000
TZOFFSETFROM:+0200
TZOFFSETTO:+0100
RDATE:20221030T030000
TZNAME:CET
END:STANDARD
BEGIN:DAYLIGHT
DTSTART:20210328T020000
TZOFFSETFROM:+0100
TZOFFSETTO:+0200
RDATE:20220327T020000
TZNAME:CEST
END:DAYLIGHT
END:VTIMEZONE
BEGIN:VEVENT
UID:20210814T190850UTC-2951WRtlRw@185.163.126.65
DTSTAMP:20210814T190850Z
CATEGORIES:PERSONAL
CLASS:PUBLIC
DESCRIPTION:
DTSTART:20210813T201500Z
DTEND:20210813T203000Z
SUMMARY:Sommet Des Eléments
END:VEVENT
END:VCALENDAR
